BEGIN:VCALENDAR
VERSION:2.0
PRODID:-//hacksw/handcal//NONSGML v1.0//EN
BEGIN:VEVENT
UID:tournoi15075@badiste.fr
DTSTAMP:20260425T120935Z
DTSTART;VALUE=DATE:20250824
DTEND;VALUE=DATE:20250829
DESCRIPTION: http://badiste.fr
LOCATION:CREPS Auvergne-Rhône-Alpes 150 Pass. François Leclerc  07150 Vallon-Pont-d'Arc
SUMMARY:+2Bad Stages Été 2025 Vallon Adultes 24-29/08
END:VEVENT
END:VCALENDAR