BEGIN:VCALENDAR
VERSION:2.0
PRODID:-//hacksw/handcal//NONSGML v1.0//EN
BEGIN:VEVENT
UID:tournoi15074@badiste.fr
DTSTAMP:20260425T120931Z
DTSTART;VALUE=DATE:20250817
DTEND;VALUE=DATE:20250822
DESCRIPTION: http://badiste.fr
LOCATION:CREPS Auvergne-Rhône-Alpes 150 Pass. François Leclerc  07150 Vallon-Pont-d'Arc
SUMMARY:+2Bad Stages Été 2025 Vallon Adultes 17-22/08
END:VEVENT
END:VCALENDAR