BEGIN:VCALENDAR
VERSION:2.0
PRODID:-//hacksw/handcal//NONSGML v1.0//EN
BEGIN:VEVENT
UID:tournoi15072@badiste.fr
DTSTAMP:20260425T120900Z
DTSTART;VALUE=DATE:20250720
DTEND;VALUE=DATE:20250725
DESCRIPTION: http://badiste.fr
LOCATION:CREPS Auvergne-Rhône-Alpes 150 Pass. François Leclerc  07150 Vallon-Pont-d'Arc
SUMMARY:+2Bad Stages Été 2025 Vallon Adultes 20-25/07
END:VEVENT
END:VCALENDAR