BEGIN:VCALENDAR
VERSION:2.0
PRODID:-//hacksw/handcal//NONSGML v1.0//EN
BEGIN:VEVENT
UID:tournoi15062@badiste.fr
DTSTAMP:20260425T120935Z
DTSTART;VALUE=DATE:20250727
DTEND;VALUE=DATE:20250801
DESCRIPTION: http://badiste.fr
LOCATION:Campus Sport Bretagne   35800 Dinard
SUMMARY:+2Bad Stages Été 2025 Dinard Adultes 27/07-01/08
END:VEVENT
END:VCALENDAR