BEGIN:VCALENDAR
VERSION:2.0
PRODID:-//hacksw/handcal//NONSGML v1.0//EN
BEGIN:VEVENT
UID:tournoi15061@badiste.fr
DTSTAMP:20260425T120935Z
DTSTART;VALUE=DATE:20250720
DTEND;VALUE=DATE:20250725
DESCRIPTION: http://badiste.fr
LOCATION:Campus Sport Bretagne   35800 Dinard
SUMMARY:+2Bad Stages Été 2025 Dinard Adultes 20-25/07
END:VEVENT
END:VCALENDAR