BEGIN:VCALENDAR
VERSION:2.0
PRODID:-//hacksw/handcal//NONSGML v1.0//EN
BEGIN:VEVENT
UID:tournoi15059@badiste.fr
DTSTAMP:20260425T120929Z
DTSTART;VALUE=DATE:20250803
DTEND;VALUE=DATE:20250808
DESCRIPTION: http://badiste.fr
LOCATION:Campus Sport Bretagne   35800 Dinard
SUMMARY:+2Bad Stages Été 2025 Dinard Adultes 10-15/08
END:VEVENT
END:VCALENDAR