BEGIN:VCALENDAR
VERSION:2.0
PRODID:-//hacksw/handcal//NONSGML v1.0//EN
BEGIN:VEVENT
UID:tournoi15042@badiste.fr
DTSTAMP:20260424T152944Z
DTSTART;VALUE=DATE:20241110
DTEND;VALUE=DATE:20241111
DESCRIPTION: http://badiste.fr
LOCATION:à venir   - -
SUMMARY:Trophée Départemental Adultes 3 - Mixte
END:VEVENT
END:VCALENDAR