BEGIN:VCALENDAR
VERSION:2.0
PRODID:-//hacksw/handcal//NONSGML v1.0//EN
BEGIN:VEVENT
UID:tournoi15039@badiste.fr
DTSTAMP:20260424T152938Z
DTSTART;VALUE=DATE:20241012
DTEND;VALUE=DATE:20241013
DESCRIPTION: http://badiste.fr
LOCATION:Capron 5 Av. de Madrid  06400 Cannes
SUMMARY:Trophée Départemental Jeunes 1 - Simple et Double
END:VEVENT
END:VCALENDAR