BEGIN:VCALENDAR
VERSION:2.0
PRODID:-//hacksw/handcal//NONSGML v1.0//EN
BEGIN:VEVENT
UID:tournoi15032@badiste.fr
DTSTAMP:20260425T120930Z
DTSTART;VALUE=DATE:20250531
DTEND;VALUE=DATE:20250602
DESCRIPTION: http://badiste.fr
LOCATION:Gymnase Omar Chérif 16 rue de Toulouse  93600 Aulnay-sous-Bois
SUMMARY:+2Bad Stages Week-end Ile-de-France 31 Mai-01 Juin
END:VEVENT
END:VCALENDAR