BEGIN:VCALENDAR
VERSION:2.0
PRODID:-//hacksw/handcal//NONSGML v1.0//EN
BEGIN:VEVENT
UID:tournoi15031@badiste.fr
DTSTAMP:20260425T120936Z
DTSTART;VALUE=DATE:20250426
DTEND;VALUE=DATE:20250428
DESCRIPTION: http://badiste.fr
LOCATION:Gymnase Omar Chérif 16 rue de Toulouse  93600 Aulnay-sous-Bois
SUMMARY:+2Bad Stages Week-end Ile-de-France 26-27 Avril
END:VEVENT
END:VCALENDAR