BEGIN:VCALENDAR
VERSION:2.0
PRODID:-//hacksw/handcal//NONSGML v1.0//EN
BEGIN:VEVENT
UID:tournoi15022@badiste.fr
DTSTAMP:20260425T120930Z
DTSTART;VALUE=DATE:20250413
DTEND;VALUE=DATE:20250419
DESCRIPTION: http://badiste.fr
LOCATION:Complexe Sportif de la Monnerie Allée des Fromentaux  72200 La Flèche
SUMMARY:+2Bad Stages Jeunes Pâques La Flèche
END:VEVENT
END:VCALENDAR