BEGIN:VCALENDAR
VERSION:2.0
PRODID:-//hacksw/handcal//NONSGML v1.0//EN
BEGIN:VEVENT
UID:tournoi15021@badiste.fr
DTSTAMP:20260420T151949Z
DTSTART;VALUE=DATE:20241204
DTEND;VALUE=DATE:20241206
DESCRIPTION: http://badiste.fr
LOCATION:+2Bad Arena Rennes 11i Rue des Charmilles  35510 Cesson-Sévigné
SUMMARY:+2Bad Stages Week-end Rennes 07-08 Décembre
END:VEVENT
END:VCALENDAR