BEGIN:VCALENDAR
VERSION:2.0
PRODID:-//hacksw/handcal//NONSGML v1.0//EN
BEGIN:VEVENT
UID:tournoi15018@badiste.fr
DTSTAMP:20260425T120942Z
DTSTART;VALUE=DATE:20240914
DTEND;VALUE=DATE:20240916
DESCRIPTION: http://badiste.fr
LOCATION:+2Bad Arena Rennes 11i Rue des Charmilles  35510 Cesson-Sévigné
SUMMARY:+2Bad Stages Week-end Rennes 14-15 Septembre
END:VEVENT
END:VCALENDAR