BEGIN:VCALENDAR
VERSION:2.0
PRODID:-//hacksw/handcal//NONSGML v1.0//EN
BEGIN:VEVENT
UID:tournoi14955@badiste.fr
DTSTAMP:20260422T183509Z
DTSTART;VALUE=DATE:20240420
DTEND;VALUE=DATE:20240421
DESCRIPTION: http://badiste.fr
LOCATION:Collège Jean MOULIN  Ru de la viguière 83170 Var
SUMMARY:Trophée Adultes Départemental de Simple N°2
END:VEVENT
END:VCALENDAR