BEGIN:VCALENDAR
VERSION:2.0
PRODID:-//hacksw/handcal//NONSGML v1.0//EN
BEGIN:VEVENT
UID:tournoi14948@badiste.fr
DTSTAMP:20260424T152843Z
DTSTART;VALUE=DATE:20240127
DTEND;VALUE=DATE:20240128
DESCRIPTION: http://badiste.fr
LOCATION:Colette Besson 40 Chem. des Canebiers  06800 Cagnes sur mer
SUMMARY:Trophée Départemental Adultes - Double
END:VEVENT
END:VCALENDAR