BEGIN:VCALENDAR
VERSION:2.0
PRODID:-//hacksw/handcal//NONSGML v1.0//EN
BEGIN:VEVENT
UID:tournoi14924@badiste.fr
DTSTAMP:20260424T152944Z
DTSTART;VALUE=DATE:20240407
DTEND;VALUE=DATE:20240408
DESCRIPTION: http://badiste.fr
LOCATION:Patrick Berhault Chem. du Castel  06440 L'Escarène
SUMMARY:Trophée Départemental Adultes - Double
END:VEVENT
END:VCALENDAR