BEGIN:VCALENDAR
VERSION:2.0
PRODID:-//hacksw/handcal//NONSGML v1.0//EN
BEGIN:VEVENT
UID:tournoi14923@badiste.fr
DTSTAMP:20260425T120930Z
DTSTART;VALUE=DATE:20240714
DTEND;VALUE=DATE:20240720
DESCRIPTION: http://badiste.fr
LOCATION:Campus Sport Bretagne   35800 Dinard
SUMMARY:+2Bad Stages Été 2024 Dinard Jeunes
END:VEVENT
END:VCALENDAR