BEGIN:VCALENDAR
VERSION:2.0
PRODID:-//hacksw/handcal//NONSGML v1.0//EN
BEGIN:VEVENT
UID:tournoi14911@badiste.fr
DTSTAMP:20260421T181832Z
DTSTART;VALUE=DATE:20240113
DTEND;VALUE=DATE:20240115
DESCRIPTION: http://badiste.fr
LOCATION:Ufr staps   06000 NICE
SUMMARY:Tournoi des aiglons 2
END:VEVENT
END:VCALENDAR