BEGIN:VCALENDAR
VERSION:2.0
PRODID:-//hacksw/handcal//NONSGML v1.0//EN
BEGIN:VEVENT
UID:tournoi14894@badiste.fr
DTSTAMP:20260422T152334Z
DTSTART;VALUE=DATE:20240127
DTEND;VALUE=DATE:20240129
DESCRIPTION: http://badiste.fr
LOCATION:HENRI BEAUFOL CHEMIN TROMPE SOURIS  18310 GRAÇAY
SUMMARY:BADACREPES NUMBER 4
END:VEVENT
END:VCALENDAR