BEGIN:VCALENDAR
VERSION:2.0
PRODID:-//hacksw/handcal//NONSGML v1.0//EN
BEGIN:VEVENT
UID:tournoi14893@badiste.fr
DTSTAMP:20260424T124648Z
DTSTART;VALUE=DATE:20240106
DTEND;VALUE=DATE:20240108
DESCRIPTION: http://badiste.fr
LOCATION:Jean François Lamour Avenue Stalingrad  13200 ARLES
SUMMARY:Les volants de l'Arlésienne
END:VEVENT
END:VCALENDAR