BEGIN:VCALENDAR
VERSION:2.0
PRODID:-//hacksw/handcal//NONSGML v1.0//EN
BEGIN:VEVENT
UID:tournoi14824@badiste.fr
DTSTAMP:20260421T181833Z
DTSTART;VALUE=DATE:20240120
DTEND;VALUE=DATE:20240122
DESCRIPTION: http://badiste.fr
LOCATION:   06000 Nice
SUMMARY:Bad de Nice
END:VEVENT
END:VCALENDAR