BEGIN:VCALENDAR
VERSION:2.0
PRODID:-//hacksw/handcal//NONSGML v1.0//EN
BEGIN:VEVENT
UID:tournoi14823@badiste.fr
DTSTAMP:20260421T181929Z
DTSTART;VALUE=DATE:20230930
DTEND;VALUE=DATE:20231002
DESCRIPTION: http://badiste.fr
LOCATION:UFR staps de nice   06000 Nice
SUMMARY:Bad Express 5
END:VEVENT
END:VCALENDAR