BEGIN:VCALENDAR
VERSION:2.0
PRODID:-//hacksw/handcal//NONSGML v1.0//EN
BEGIN:VEVENT
UID:tournoi14815@badiste.fr
DTSTAMP:20260424T152936Z
DTSTART;VALUE=DATE:20240601
DTEND;VALUE=DATE:20240603
DESCRIPTION: http://badiste.fr
LOCATION:Parc des Sports Pierre Sauvaigo 20 Av. Marcel Pagnol  06800 Cagnes sur mer
SUMMARY:Championnats Départementaux Jeunes
END:VEVENT
END:VCALENDAR