BEGIN:VCALENDAR
VERSION:2.0
PRODID:-//hacksw/handcal//NONSGML v1.0//EN
BEGIN:VEVENT
UID:tournoi14814@badiste.fr
DTSTAMP:20260424T152945Z
DTSTART;VALUE=DATE:20240518
DTEND;VALUE=DATE:20240519
DESCRIPTION: http://badiste.fr
LOCATION:Maurice Jaubert Cr Albert Camus  06300 Nice
SUMMARY:Championnats Départementaux Adultes - Simple
END:VEVENT
END:VCALENDAR