BEGIN:VCALENDAR
VERSION:2.0
PRODID:-//hacksw/handcal//NONSGML v1.0//EN
BEGIN:VEVENT
UID:tournoi14813@badiste.fr
DTSTAMP:20260424T152938Z
DTSTART;VALUE=DATE:20240512
DTEND;VALUE=DATE:20240513
DESCRIPTION: http://badiste.fr
LOCATION:Parc des Sports Pierre Sauvaigo 20 Av. Marcel Pagnol  06800 Cagnes sur mer
SUMMARY:Trophée Départemental Jeunes 10 - Simple et Mixte
END:VEVENT
END:VCALENDAR