BEGIN:VCALENDAR
VERSION:2.0
PRODID:-//hacksw/handcal//NONSGML v1.0//EN
BEGIN:VEVENT
UID:tournoi14807@badiste.fr
DTSTAMP:20260424T152943Z
DTSTART;VALUE=DATE:20240323
DTEND;VALUE=DATE:20240324
DESCRIPTION: http://badiste.fr
LOCATION:Gymnase Borrigo 353 Av. du Doyen Jean Lépine  06500 Menton
SUMMARY:Challenge du Jeune Badiste
END:VEVENT
END:VCALENDAR