BEGIN:VCALENDAR
VERSION:2.0
PRODID:-//hacksw/handcal//NONSGML v1.0//EN
BEGIN:VEVENT
UID:tournoi14802@badiste.fr
DTSTAMP:20260424T155054Z
DTSTART;VALUE=DATE:20240203
DTEND;VALUE=DATE:20240204
DESCRIPTION: http://badiste.fr
LOCATION:Patrick Berhault Plateau de la Gare  06440 L'Escarène
SUMMARY:Trophée Départemental Jeunes 5 - Simple et Double
END:VEVENT
END:VCALENDAR