BEGIN:VCALENDAR
VERSION:2.0
PRODID:-//hacksw/handcal//NONSGML v1.0//EN
BEGIN:VEVENT
UID:tournoi14800@badiste.fr
DTSTAMP:20260424T152945Z
DTSTART;VALUE=DATE:20231209
DTEND;VALUE=DATE:20231210
DESCRIPTION: http://badiste.fr
LOCATION:Joseph Pagnol 95 Rue Albert Camus  06700 St Laurent du Var
SUMMARY:Challenge du Jeune Badiste
END:VEVENT
END:VCALENDAR