BEGIN:VCALENDAR
VERSION:2.0
PRODID:-//hacksw/handcal//NONSGML v1.0//EN
BEGIN:VEVENT
UID:tournoi14799@badiste.fr
DTSTAMP:20260424T155013Z
DTSTART;VALUE=DATE:20231203
DTEND;VALUE=DATE:20231204
DESCRIPTION: http://badiste.fr
LOCATION:Capron 5 Av. de Madrid  06400 Cannes
SUMMARY:Trophée Départemental Jeunes 4 - Simple et Mixte
END:VEVENT
END:VCALENDAR