BEGIN:VCALENDAR
VERSION:2.0
PRODID:-//hacksw/handcal//NONSGML v1.0//EN
BEGIN:VEVENT
UID:tournoi14797@badiste.fr
DTSTAMP:20260424T155104Z
DTSTART;VALUE=DATE:20231119
DTEND;VALUE=DATE:20231120
DESCRIPTION: http://badiste.fr
LOCATION:La Chênaie 330 All. du Parc  06130 Mouans-Sartoux
SUMMARY:Championnats Départementaux Adultes - Double
END:VEVENT
END:VCALENDAR