BEGIN:VCALENDAR
VERSION:2.0
PRODID:-//hacksw/handcal//NONSGML v1.0//EN
BEGIN:VEVENT
UID:tournoi14794@badiste.fr
DTSTAMP:20260424T152943Z
DTSTART;VALUE=DATE:20231111
DTEND;VALUE=DATE:20231112
DESCRIPTION: http://badiste.fr
LOCATION:Espace Saint Antoine Liaison Marquet  98000 Monaco
SUMMARY:Trophée Départemental Adultes - Mixte
END:VEVENT
END:VCALENDAR