BEGIN:VCALENDAR
VERSION:2.0
PRODID:-//hacksw/handcal//NONSGML v1.0//EN
BEGIN:VEVENT
UID:tournoi14788@badiste.fr
DTSTAMP:20260421T213853Z
DTSTART;VALUE=DATE:20231007
DTEND;VALUE=DATE:20231008
DESCRIPTION: http://badiste.fr
LOCATION:Belgique Boulevard de Belgique  42300 Roanne
SUMMARY:Simple Tour Roannais
END:VEVENT
END:VCALENDAR