BEGIN:VCALENDAR
VERSION:2.0
PRODID:-//hacksw/handcal//NONSGML v1.0//EN
BEGIN:VEVENT
UID:tournoi14787@badiste.fr
DTSTAMP:20260425T120929Z
DTSTART;VALUE=DATE:20240102
DTEND;VALUE=DATE:20240106
DESCRIPTION: http://badiste.fr
LOCATION:+2Bad Arena Rennes 7C Rue des Charmilles  35510 Cesson-Sévigné
SUMMARY:+2Bad Stages Vacances Noël 2-5 Janvier
END:VEVENT
END:VCALENDAR