BEGIN:VCALENDAR
VERSION:2.0
PRODID:-//hacksw/handcal//NONSGML v1.0//EN
BEGIN:VEVENT
UID:tournoi14785@badiste.fr
DTSTAMP:20260425T120941Z
DTSTART;VALUE=DATE:20231030
DTEND;VALUE=DATE:20231104
DESCRIPTION: http://badiste.fr
LOCATION:+2Bad Arena Rennes 7C Rue des Charmilles  35510 Cesson-Sévigné
SUMMARY:+2Bad Stages Vacances Toussaint
END:VEVENT
END:VCALENDAR