BEGIN:VCALENDAR
VERSION:2.0
PRODID:-//hacksw/handcal//NONSGML v1.0//EN
BEGIN:VEVENT
UID:tournoi14781@badiste.fr
DTSTAMP:20260425T120941Z
DTSTART;VALUE=DATE:20240413
DTEND;VALUE=DATE:20240415
DESCRIPTION: http://badiste.fr
LOCATION:+2Bad Arena Rennes 7C Rue des Charmilles  35510 Cesson-Sévigné
SUMMARY:+2Bad Stages Week-end Arena Rennes 13-14 Avril
END:VEVENT
END:VCALENDAR