BEGIN:VCALENDAR
VERSION:2.0
PRODID:-//hacksw/handcal//NONSGML v1.0//EN
BEGIN:VEVENT
UID:tournoi14769@badiste.fr
DTSTAMP:20260420T080119Z
DTSTART;VALUE=DATE:20240504
DTEND;VALUE=DATE:20240506
DESCRIPTION: http://badiste.fr
LOCATION:Raquin Boulevard du Raquin  69680 Chassieu
SUMMARY:16ème TNA ECOBaD de Doubles Adultes
END:VEVENT
END:VCALENDAR