BEGIN:VCALENDAR
VERSION:2.0
PRODID:-//hacksw/handcal//NONSGML v1.0//EN
BEGIN:VEVENT
UID:tournoi14744@badiste.fr
DTSTAMP:20260422T075615Z
DTSTART;VALUE=DATE:20240104
DTEND;VALUE=DATE:20240105
DESCRIPTION: http://badiste.fr
LOCATION:Gymnase du lycée impasse chateaubriand  42160 Andrézieux-Bouthéon
SUMMARY:3ème FlashBad de Double Mixte
END:VEVENT
END:VCALENDAR