BEGIN:VCALENDAR
VERSION:2.0
PRODID:-//hacksw/handcal//NONSGML v1.0//EN
BEGIN:VEVENT
UID:tournoi14737@badiste.fr
DTSTAMP:20260425T120901Z
DTSTART;VALUE=DATE:20240622
DTEND;VALUE=DATE:20240624
DESCRIPTION: http://badiste.fr
LOCATION:Gymnase Omar Chérif 16 rue de Toulouse  93600 Aulnay-sous-Bois
SUMMARY:+2Bad Stages Week-end Ile-de-France 22-23 Juin
END:VEVENT
END:VCALENDAR