BEGIN:VCALENDAR
VERSION:2.0
PRODID:-//hacksw/handcal//NONSGML v1.0//EN
BEGIN:VEVENT
UID:tournoi14733@badiste.fr
DTSTAMP:20260425T120902Z
DTSTART;VALUE=DATE:20231117
DTEND;VALUE=DATE:20231119
DESCRIPTION: http://badiste.fr
LOCATION:Gymnase Omar Chérif 16 rue de Toulouse  93600 Aulnay-sous-Bois
SUMMARY:+2Bad Stages Week-end Ile-de-France 18-19 Novembre
END:VEVENT
END:VCALENDAR