BEGIN:VCALENDAR
VERSION:2.0
PRODID:-//hacksw/handcal//NONSGML v1.0//EN
BEGIN:VEVENT
UID:tournoi14731@badiste.fr
DTSTAMP:20260425T120931Z
DTSTART;VALUE=DATE:20230916
DTEND;VALUE=DATE:20230918
DESCRIPTION: http://badiste.fr
LOCATION:Gymnase Omar Chérif 16 rue de Toulouse  93600 Aulnay-sous-Bois
SUMMARY:+2Bad Stages Week-end Ile-de-France 16-17 Septembr
END:VEVENT
END:VCALENDAR