BEGIN:VCALENDAR
VERSION:2.0
PRODID:-//hacksw/handcal//NONSGML v1.0//EN
BEGIN:VEVENT
UID:tournoi14728@badiste.fr
DTSTAMP:20260421T131605Z
DTSTART;VALUE=DATE:20231202
DTEND;VALUE=DATE:20231203
DESCRIPTION: http://badiste.fr
LOCATION:Cercle Marcel Brunot 110 Rue du 4 Août 1789  69100 Villeurbanne
SUMMARY:4ème édition du Simpl'Bad du GSL
END:VEVENT
END:VCALENDAR