BEGIN:VCALENDAR
VERSION:2.0
PRODID:-//hacksw/handcal//NONSGML v1.0//EN
BEGIN:VEVENT
UID:tournoi14727@badiste.fr
DTSTAMP:20260421T131657Z
DTSTART;VALUE=DATE:20240309
DTEND;VALUE=DATE:20240311
DESCRIPTION: http://badiste.fr
LOCATION:Cercle Marcel Brunot 110 Rue du 4 Août 1789  69100 Villeurbanne
SUMMARY:13ème édition Nationale du Bad'Pitt 2024
END:VEVENT
END:VCALENDAR