BEGIN:VCALENDAR
VERSION:2.0
PRODID:-//hacksw/handcal//NONSGML v1.0//EN
BEGIN:VEVENT
UID:tournoi14712@badiste.fr
DTSTAMP:20260425T120930Z
DTSTART;VALUE=DATE:20230902
DTEND;VALUE=DATE:20230904
DESCRIPTION: http://badiste.fr
LOCATION:+2Bad Arena Rennes 7C Rue des Charmilles  35510 Cesson-Sévigné
SUMMARY:+2Bad Stages Week-end Arena Rennes 1-2 septembre
END:VEVENT
END:VCALENDAR