BEGIN:VCALENDAR
VERSION:2.0
PRODID:-//hacksw/handcal//NONSGML v1.0//EN
BEGIN:VEVENT
UID:tournoi14682@badiste.fr
DTSTAMP:20260424T212241Z
DTSTART;VALUE=DATE:20230603
DTEND;VALUE=DATE:20230605
DESCRIPTION: http://badiste.fr
LOCATION:Salle des sports de La Pierre Grise   24660 SANILHAC
SUMMARY:9ème tournoi national du SASBAD24
END:VEVENT
END:VCALENDAR