BEGIN:VCALENDAR
VERSION:2.0
PRODID:-//hacksw/handcal//NONSGML v1.0//EN
BEGIN:VEVENT
UID:tournoi14680@badiste.fr
DTSTAMP:20260421T125538Z
DTSTART;VALUE=DATE:20230514
DTEND;VALUE=DATE:20230515
DESCRIPTION: http://badiste.fr
LOCATION:   35170 Bruz
SUMMARY:Tournoi simple Bruz NC, P et D
END:VEVENT
END:VCALENDAR