BEGIN:VCALENDAR
VERSION:2.0
PRODID:-//hacksw/handcal//NONSGML v1.0//EN
BEGIN:VEVENT
UID:tournoi14663@badiste.fr
DTSTAMP:20260423T162707Z
DTSTART;VALUE=DATE:20230603
DTEND;VALUE=DATE:20230605
DESCRIPTION: http://badiste.fr
LOCATION:   56600 Lanester
SUMMARY:Le CHOC des Badistes 7 Lanester
END:VEVENT
END:VCALENDAR