BEGIN:VCALENDAR
VERSION:2.0
PRODID:-//hacksw/handcal//NONSGML v1.0//EN
BEGIN:VEVENT
UID:tournoi14614@badiste.fr
DTSTAMP:20260423T052937Z
DTSTART;VALUE=DATE:20230603
DTEND;VALUE=DATE:20230605
DESCRIPTION: http://badiste.fr
LOCATION:LEO LAGRANGE et COUBERTIN bd alfred casile  13127 Vitrolles
SUMMARY:5 ème Tournoi DELLA ROMA
END:VEVENT
END:VCALENDAR