BEGIN:VCALENDAR
VERSION:2.0
PRODID:-//hacksw/handcal//NONSGML v1.0//EN
BEGIN:VEVENT
UID:tournoi14588@badiste.fr
DTSTAMP:20260421T181928Z
DTSTART;VALUE=DATE:20230313
DTEND;VALUE=DATE:20230314
DESCRIPTION: http://badiste.fr
LOCATION:UFR STAPS   06000 Nice
SUMMARY:Night Badminton Tour - Etape 1
END:VEVENT
END:VCALENDAR