BEGIN:VCALENDAR
VERSION:2.0
PRODID:-//hacksw/handcal//NONSGML v1.0//EN
BEGIN:VEVENT
UID:tournoi14561@badiste.fr
DTSTAMP:20260421T181954Z
DTSTART;VALUE=DATE:20230325
DTEND;VALUE=DATE:20230326
DESCRIPTION: http://badiste.fr
LOCATION:UFR STAPS   06000 Nice
SUMMARY:4Bad- Tournoi par équipes
END:VEVENT
END:VCALENDAR