BEGIN:VCALENDAR
VERSION:2.0
PRODID:-//hacksw/handcal//NONSGML v1.0//EN
BEGIN:VEVENT
UID:tournoi14546@badiste.fr
DTSTAMP:20260425T005851Z
DTSTART;VALUE=DATE:20230318
DTEND;VALUE=DATE:20230320
DESCRIPTION: http://badiste.fr
LOCATION:Beauregard   37110 Château-Renault
SUMMARY:TDJ4
END:VEVENT
END:VCALENDAR